BEGIN:VCALENDAR
VERSION:2.0
PRODID:-//Squarespace Inc/Squarespace 6//v6//EN
BEGIN:VEVENT
UID:5ae801de8a922d40d2b63537@squarespace.com
DTSTAMP:20180501T111633Z
DTSTART:20180521T220000Z
DTEND:20180521T224500Z
SUMMARY:Crawler Course - new course!
END:VEVENT
END:VCALENDAR
