BEGIN:VCALENDAR
VERSION:2.0
PRODID:-//Squarespace Inc/Squarespace 6//v6//EN
BEGIN:VEVENT
UID:5b580914f950b76718ac0378@squarespace.com
DTSTAMP:20180813T050223Z
DTSTART:20180813T003000Z
DTEND:20180813T011500Z
SUMMARY:Crawlers Course 
END:VEVENT
END:VCALENDAR
