BEGIN:VCALENDAR
VERSION:2.0
PRODID:-//Squarespace Inc/Squarespace 6//v6//EN
BEGIN:VEVENT
UID:576a59e215d5db796d39d5c7@squarespace.com
DTSTAMP:20160623T103626Z
DTSTART:20160716T010000Z
DTEND:20160716T040000Z
SUMMARY:Awaken your Winter Glow
END:VEVENT
END:VCALENDAR
