BEGIN:VCALENDAR
VERSION:2.0
PRODID:-//Squarespace Inc/Squarespace 6//v6//EN
BEGIN:VEVENT
UID:5713381345bf21968b6eaf2b@squarespace.com
DTSTAMP:20160417T081643Z
DTSTART:20160507T020000Z
DTEND:20160507T053000Z
SUMMARY:Ashtanga Style Heart Opening Workshop
END:VEVENT
END:VCALENDAR
