BEGIN:VCALENDAR
VERSION:2.0
PRODID:-//Squarespace Inc/Squarespace 6//v6//EN
BEGIN:VEVENT
UID:5a728590ec212d13b8b79971@squarespace.com
DTSTAMP:20180322T014956Z
DTSTART:20180407T233000Z
DTEND:20180408T013000Z
SUMMARY:Arm Balance Basics Workshop 
END:VEVENT
END:VCALENDAR
