BEGIN:VCALENDAR
VERSION:2.0
PRODID:-//Squarespace Inc/Squarespace 6//v6//EN
BEGIN:VEVENT
UID:5bb73109b208fc6e8b66c238@squarespace.com
DTSTAMP:20190609T230928Z
DTSTART:20190424T061500Z
DTEND:20190522T071500Z
SUMMARY:Somatics with Haidee Stairmand
END:VEVENT
END:VCALENDAR
