BEGIN:VCALENDAR
VERSION:2.0
PRODID:-//Squarespace Inc/Squarespace 6//v6//EN
BEGIN:VEVENT
UID:56e63799b6aa60415bc47de0@squarespace.com
DTSTAMP:20161127T070344Z
DTSTART:20151201T043000Z
DTEND:20151231T053000Z
SUMMARY:2015 - $49 Unlimited Yoga for December!
END:VEVENT
END:VCALENDAR
