BEGIN:VCALENDAR
VERSION:2.0
PRODID:-//Squarespace Inc/Squarespace 6//v6//EN
BEGIN:VEVENT
UID:5c898aa915fcc074e571d0c3@squarespace.com
DTSTAMP:20190325T013625Z
DTSTART:20190506T034500Z
DTEND:20190701T043000Z
SUMMARY:Brain Flow Yoga for Kids
END:VEVENT
END:VCALENDAR
