BEGIN:VCALENDAR
VERSION:2.0
PRODID:-//Squarespace Inc/Squarespace 6//v6//EN
BEGIN:VEVENT
UID:5c6efa2bec212df4f6c9b8ce@squarespace.com
DTSTAMP:20190313T225641Z
DTSTART:20190412T230000Z
DTEND:20190413T023000Z
SUMMARY:Yin\, Food and Chill
END:VEVENT
END:VCALENDAR
