BEGIN:VCALENDAR
VERSION:2.0
PRODID:-//Squarespace Inc/Squarespace 6//v6//EN
BEGIN:VEVENT
UID:5c651dd40852293cf5008d00@squarespace.com
DTSTAMP:20190404T023811Z
DTSTART:20190306T051500Z
DTEND:20190306T061500Z
SUMMARY:Yoga Basics | 6 Week Beginner Series
END:VEVENT
END:VCALENDAR
