BEGIN:VCALENDAR
VERSION:2.0
PRODID:-//Squarespace Inc/Squarespace 6//v6//EN
BEGIN:VEVENT
UID:5ca56e13104c7be0fb9e6997@squarespace.com
DTSTAMP:20190612T020234Z
DTSTART:20190529T061500Z
DTEND:20190703T071500Z
SUMMARY:Yoga Basics | 6 Week Beginner Series
END:VEVENT
END:VCALENDAR
