BEGIN:VCALENDAR
VERSION:2.0
PRODID:-//Squarespace Inc/Squarespace 6//v6//EN
BEGIN:VEVENT
UID:5d005d3b61a08f0001944eb2@squarespace.com
DTSTAMP:20190820T090926Z
DTSTART:20190828T061500Z
DTEND:20191002T061500Z
SUMMARY:Yoga Basics | 6 Week Beginner Series | Term 3
END:VEVENT
END:VCALENDAR
