BEGIN:VCALENDAR
VERSION:2.0
PRODID:-//Squarespace Inc/Squarespace 6//v6//EN
BEGIN:VEVENT
UID:5d75954ddf09514a979dbcb1@squarespace.com
DTSTAMP:20190913T204920Z
DTSTART:20191009T051500Z
DTEND:20191113T061500Z
SUMMARY:Yoga Basics | 6 Week Beginner Series | Term 4
END:VEVENT
END:VCALENDAR
