BEGIN:VCALENDAR
VERSION:2.0
PRODID:-//Squarespace Inc/Squarespace 6//v6//EN
BEGIN:VEVENT
UID:5dfac64d9a89ef5096be069a@squarespace.com
DTSTAMP:20191220T050857Z
DTSTART:20200122T051500Z
DTEND:20200226T061500Z
SUMMARY:Yoga Basics | 6 Week Beginner Series | Term 1
END:VEVENT
END:VCALENDAR
