BEGIN:VCALENDAR
VERSION:2.0
PRODID:-//Squarespace Inc/Squarespace 6//v6//EN
BEGIN:VEVENT
UID:5c4948ae352f534aa643d8d2@squarespace.com
DTSTAMP:20190221T193038Z
DTSTART:20190211T220000Z
DTEND:20190211T230000Z
SUMMARY:Mums n Bubs Yoga - extra course
END:VEVENT
END:VCALENDAR
