BEGIN:VCALENDAR
VERSION:2.0
PRODID:-//Squarespace Inc/Squarespace 6//v6//EN
BEGIN:VEVENT
UID:5c57c91b4785d36b230e7f9e@squarespace.com
DTSTAMP:20190221T193059Z
DTSTART:20190211T233000Z
DTEND:20190212T003000Z
SUMMARY:Mums n Bubs Yoga - extra course
END:VEVENT
END:VCALENDAR
