BEGIN:VCALENDAR
VERSION:2.0
PRODID:-//Squarespace Inc/Squarespace 6//v6//EN
BEGIN:VEVENT
UID:5d7592acd2ff7501b4a27029@squarespace.com
DTSTAMP:20190908T235612Z
DTSTART:20191013T220000Z
DTEND:20191208T230000Z
SUMMARY:Mums + Bubs Yoga | Term 4
END:VEVENT
END:VCALENDAR
