BEGIN:VCALENDAR
VERSION:2.0
PRODID:-//Squarespace Inc/Squarespace 6//v6//EN
BEGIN:VEVENT
UID:5dfac41d9a89ef5096bdc278@squarespace.com
DTSTAMP:20191220T050829Z
DTSTART:20200202T220000Z
DTEND:20200329T230000Z
SUMMARY:Mums + Bubs Yoga | Term 1
END:VEVENT
END:VCALENDAR
