BEGIN:VCALENDAR
VERSION:2.0
PRODID:-//Squarespace Inc/Squarespace 6//v6//EN
BEGIN:VEVENT
UID:5ca56a682fa448000186d817@squarespace.com
DTSTAMP:20190404T022448Z
DTSTART:20190506T230000Z
DTEND:20190625T000000Z
SUMMARY:Mums + Bubs Yoga Tuesdays
END:VEVENT
END:VCALENDAR
