BEGIN:VCALENDAR
VERSION:2.0
PRODID:-//Squarespace Inc/Squarespace 6//v6//EN
BEGIN:VEVENT
UID:5ca565c0104c7be0fb9e1816@squarespace.com
DTSTAMP:20190612T003027Z
DTSTART:20190505T230000Z
DTEND:20190701T000000Z
SUMMARY:Mums + Bubs Yoga Mondays
END:VEVENT
END:VCALENDAR
