BEGIN:VCALENDAR
VERSION:2.0
PRODID:-//Squarespace Inc/Squarespace 6//v6//EN
BEGIN:VEVENT
UID:5d0047a3e98fb60001b03989@squarespace.com
DTSTAMP:20190612T010517Z
DTSTART:20190804T230000Z
DTEND:20190923T000000Z
SUMMARY:Mums + Bubs Yoga | Term 3
END:VEVENT
END:VCALENDAR
