BEGIN:VCALENDAR
VERSION:2.0
PRODID:-//Squarespace Inc/Squarespace 6//v6//EN
BEGIN:VEVENT
UID:5c0af394758d4673e13cdae8@squarespace.com
DTSTAMP:20190221T192917Z
DTSTART:20190116T050000Z
DTEND:20190116T060000Z
SUMMARY:Yoga Basics | 6 week Beginner Yoga Series
END:VEVENT
END:VCALENDAR
