BEGIN:VCALENDAR
VERSION:2.0
PRODID:-//Squarespace Inc/Squarespace 6//v6//EN
BEGIN:VEVENT
UID:5b74afb688251bb8dee6202d@squarespace.com
DTSTAMP:20180816T000815Z
DTSTART:20180829T061500Z
DTEND:20180829T071500Z
SUMMARY:Somatics Course - healthy backs & shoulders 
END:VEVENT
END:VCALENDAR
