BEGIN:VCALENDAR
VERSION:2.0
PRODID:-//Squarespace Inc/Squarespace 6//v6//EN
BEGIN:VEVENT
UID:5b6caaea0e2e72a4a5accb1e@squarespace.com
DTSTAMP:20180809T210700Z
DTSTART:20180826T010000Z
DTEND:20180826T030000Z
SUMMARY:Goddess Women's Circle - with Loren Honey 
END:VEVENT
END:VCALENDAR
