BEGIN:VCALENDAR
VERSION:2.0
PRODID:-//Squarespace Inc/Squarespace 6//v6//EN
BEGIN:VEVENT
UID:5af8cd7c88251b0bacee003c@squarespace.com
DTSTAMP:20180513T234731Z
DTSTART:20180729T230000Z
DTEND:20180730T000000Z
SUMMARY:Mums + Bubs Yoga 
END:VEVENT
END:VCALENDAR
