BEGIN:VCALENDAR
VERSION:2.0
PRODID:-//Squarespace Inc/Squarespace 6//v6//EN
BEGIN:VEVENT
UID:5c0aefcc40ec9ae11658eb7b@squarespace.com
DTSTAMP:20190403T235356Z
DTSTART:20190210T233000Z
DTEND:20190211T001500Z
SUMMARY:Crawler's Course 
END:VEVENT
END:VCALENDAR
