BEGIN:VCALENDAR
VERSION:2.0
PRODID:-//Squarespace Inc/Squarespace 6//v6//EN
BEGIN:VEVENT
UID:5ca54794eef1a11b5a09a77c@squarespace.com
DTSTAMP:20190612T021859Z
DTSTART:20190506T003000Z
DTEND:20190701T011500Z
SUMMARY:Crawlers Course 
END:VEVENT
END:VCALENDAR
