BEGIN:VCALENDAR
VERSION:2.0
PRODID:-//Squarespace Inc/Squarespace 6//v6//EN
BEGIN:VEVENT
UID:5d00590a360cb400017b51af@squarespace.com
DTSTAMP:20190612T014943Z
DTSTART:20190805T003000Z
DTEND:20190923T013000Z
SUMMARY:Mums + Bubs Yoga | Crawlers to Prewalkers
END:VEVENT
END:VCALENDAR
