BEGIN:VCALENDAR
VERSION:2.0
PRODID:-//Squarespace Inc/Squarespace 6//v6//EN
BEGIN:VEVENT
UID:5c08a70a4fa51ae66c34a6ec@squarespace.com
DTSTAMP:20181206T044116Z
DTSTART:20181223T000000Z
DTEND:20181223T020000Z
SUMMARY:Goddess Women's Circle
END:VEVENT
END:VCALENDAR
