BEGIN:VCALENDAR
VERSION:2.0
PRODID:-//Squarespace Inc/Squarespace 6//v6//EN
BEGIN:VEVENT
UID:5b88e5084ae237a22fbd144e@squarespace.com
DTSTAMP:20180831T065707Z
DTSTART:20181028T233000Z
DTEND:20181029T001500Z
SUMMARY:Crawlers Course 
END:VEVENT
END:VCALENDAR
