BEGIN:VCALENDAR
VERSION:2.0
PRODID:-//Squarespace Inc/Squarespace 6//v6//EN
BEGIN:VEVENT
UID:5badadb9f9619a3ac9b053ae@squarespace.com
DTSTAMP:20180928T044737Z
DTSTART:20181028T010000Z
DTEND:20181028T030000Z
SUMMARY:Personal Astrology 101
END:VEVENT
END:VCALENDAR
