BEGIN:VCALENDAR
VERSION:2.0
PRODID:-//Squarespace Inc/Squarespace 6//v6//EN
BEGIN:VEVENT
UID:5ba0ca141ae6cf6b144eba7f@squarespace.com
DTSTAMP:20181005T094759Z
DTSTART:20181015T220000Z
DTEND:20181015T230000Z
SUMMARY:Mums + Bubs Yoga - Extra course!
END:VEVENT
END:VCALENDAR
