BEGIN:VCALENDAR
VERSION:2.0
PRODID:-//Squarespace Inc/Squarespace 6//v6//EN
BEGIN:VEVENT
UID:5b85b5ae21c67c84b76ab982@squarespace.com
DTSTAMP:20181005T094733Z
DTSTART:20181014T220000Z
DTEND:20181014T230000Z
SUMMARY:Mums + Bubs Yoga 
END:VEVENT
END:VCALENDAR
