BEGIN:VCALENDAR
VERSION:2.0
PRODID:-//Squarespace Inc/Squarespace 6//v6//EN
BEGIN:VEVENT
UID:590143cb8419c2cdde0d74d8@squarespace.com
DTSTAMP:20170505T020754Z
DTSTART:20170528T010000Z
DTEND:20170528T033000Z
SUMMARY:Rest out West 
END:VEVENT
END:VCALENDAR
