BEGIN:VCALENDAR
VERSION:2.0
PRODID:-//Squarespace Inc/Squarespace 6//v6//EN
BEGIN:VEVENT
UID:5851d5f8d2b857d7fdeff514@squarespace.com
DTSTAMP:20170127T200750Z
DTSTART:20170201T233000Z
DTEND:20170202T003000Z
SUMMARY:Wanderlust 2017 - Great Lake Taupo
END:VEVENT
END:VCALENDAR
