BEGIN:VCALENDAR
VERSION:2.0
PRODID:-//Squarespace Inc/Squarespace 6//v6//EN
BEGIN:VEVENT
UID:57bd3a6ae6f2e14fa30203b1@squarespace.com
DTSTAMP:20160902T200307Z
DTSTART:20160924T010000Z
DTEND:20160924T040000Z
SUMMARY:Beginners Acro Yoga Workshop! 
END:VEVENT
END:VCALENDAR
