BEGIN:VCALENDAR
VERSION:2.0
PRODID:-//Squarespace Inc/Squarespace 6//v6//EN
BEGIN:VEVENT
UID:57928caa3e00bedd3222bf9e@squarespace.com
DTSTAMP:20160824T064350Z
DTSTART:20160822T060000Z
DTEND:20160822T070000Z
SUMMARY:-SOLD OUT - Yoga Basics - 6 Week Beginners Yoga Series
END:VEVENT
END:VCALENDAR
