BEGIN:VCALENDAR
VERSION:2.0
PRODID:-//Squarespace Inc/Squarespace 6//v6//EN
BEGIN:VEVENT
UID:5776d732ff7c504ff7db3bc9@squarespace.com
DTSTAMP:20160806T202454Z
DTSTART:20160801T033000Z
DTEND:20160801T041500Z
SUMMARY:Kids Yoga Course! 
END:VEVENT
END:VCALENDAR
