BEGIN:VCALENDAR
VERSION:2.0
PRODID:-//Squarespace Inc/Squarespace 6//v6//EN
BEGIN:VEVENT
UID:576f2ccc59cc68de0163c279@squarespace.com
DTSTAMP:20160726T051452Z
DTSTART:20160724T233000Z
DTEND:20160724T233000Z
SUMMARY:Modern Mama 
END:VEVENT
END:VCALENDAR
