BEGIN:VCALENDAR
VERSION:2.0
PRODID:-//Squarespace Inc/Squarespace 6//v6//EN
BEGIN:VEVENT
UID:5742419559827e2ef749f337@squarespace.com
DTSTAMP:20160711T194704Z
DTSTART:20160711T060000Z
DTEND:20160711T060000Z
SUMMARY:-SOLD OUT- Yoga Basics 6 week course
END:VEVENT
END:VCALENDAR
