BEGIN:VCALENDAR
VERSION:2.0
PRODID:-//Squarespace Inc/Squarespace 6//v6//EN
BEGIN:VEVENT
UID:574be2133c44d8bd12b9e81d@squarespace.com
DTSTAMP:20160530T071252Z
DTSTART:20160531T200000Z
DTEND:20160630T200000Z
SUMMARY:Winter Warmer Unlimited Yoga Special
END:VEVENT
END:VCALENDAR
