BEGIN:VCALENDAR
VERSION:2.0
PRODID:-//Squarespace Inc/Squarespace 6//v6//EN
BEGIN:VEVENT
UID:572d88edb09f95a8f0dd321a@squarespace.com
DTSTAMP:20160509T040143Z
DTSTART:20160527T230000Z
DTEND:20160528T013000Z
SUMMARY:Luminous Core Workshop
END:VEVENT
END:VCALENDAR
