BEGIN:VCALENDAR
VERSION:2.0
PRODID:-//Squarespace Inc/Squarespace 6//v6//EN
BEGIN:VEVENT
UID:570f27d745bf219730652349@squarespace.com
DTSTAMP:20160524T010917Z
DTSTART:20160523T060000Z
DTEND:20160523T060000Z
SUMMARY:-SOLD OUT- Yoga Basics 6 Week Beginners Yoga Series
END:VEVENT
END:VCALENDAR
