BEGIN:VCALENDAR
VERSION:2.0
PRODID:-//Squarespace Inc/Squarespace 6//v6//EN
BEGIN:VEVENT
UID:5708175fab48de2bc82a6c7a@squarespace.com
DTSTAMP:20160409T035433Z
DTSTART:20160415T050000Z
DTEND:20160415T090000Z
SUMMARY:Nature Photography by Sarah Beale and Alex Feasey. 
END:VEVENT
END:VCALENDAR
