BEGIN:VCALENDAR
VERSION:2.0
PRODID:-//Squarespace Inc/Squarespace 6//v6//EN
BEGIN:VEVENT
UID:58277677f5e2316b41599e7f@squarespace.com
DTSTAMP:20161212T053121Z
DTSTART:20161130T203000Z
DTEND:20161130T213000Z
SUMMARY:December Unlimited Yoga - $99! 
END:VEVENT
END:VCALENDAR
