BEGIN:VCALENDAR
VERSION:2.0
PRODID:-//Squarespace Inc/Squarespace 6//v6//EN
BEGIN:VEVENT
UID:583ba19d20099ed90862b90f@squarespace.com
DTSTAMP:20170126T051810Z
DTSTART:20170213T023000Z
DTEND:20170213T031500Z
SUMMARY:Kids Yoga 2017 - 13th Feb - 3rd April\, Monday 3.30-4.15pm
END:VEVENT
END:VCALENDAR
