BEGIN:VCALENDAR
VERSION:2.0
PRODID:-//Squarespace Inc/Squarespace 6//v6//EN
BEGIN:VEVENT
UID:57f5d64e440243a16287a913@squarespace.com
DTSTAMP:20161205T031220Z
DTSTART:20161102T050000Z
DTEND:20161102T060000Z
SUMMARY:-SOLD OUT- Yoga Basics Level 2 - Finding your FLOW!
END:VEVENT
END:VCALENDAR
