BEGIN:VCALENDAR
VERSION:2.0
PRODID:-//Squarespace Inc/Squarespace 6//v6//EN
BEGIN:VEVENT
UID:57bd394103596ed5dc8c1f60@squarespace.com
DTSTAMP:20161006T055003Z
DTSTART:20161003T050000Z
DTEND:20161003T060000Z
SUMMARY:-SOLD OUT - Yoga Basics 6 Week Course - Starts Monday Oct 3rd
END:VEVENT
END:VCALENDAR
