BEGIN:VCALENDAR
VERSION:2.0
PRODID:-//Squarespace Inc/Squarespace 6//v6//EN
BEGIN:VEVENT
UID:57e7233ef5e23123e5969cb2@squarespace.com
DTSTAMP:20160925T011121Z
DTSTART:20161010T023000Z
DTEND:20161010T033000Z
SUMMARY:Kids Yoga - 8 week course - 10th Oct - 28th November
END:VEVENT
END:VCALENDAR
